Package: seqTools Version: 1.34.0 Command: rm -rf seqTools.buildbin-libdir && mkdir seqTools.buildbin-libdir && /Users/biocbuild/BBS/utils/build-universal.sh seqTools_1.34.0.tar.gz /Library/Frameworks/R.framework/Resources/bin/R seqTools.buildbin-libdir StartedAt: 2023-10-16 10:12:55 -0400 (Mon, 16 Oct 2023) EndedAt: 2023-10-16 10:13:17 -0400 (Mon, 16 Oct 2023) EllapsedTime: 22.4 seconds RetCode: 0 Status: OK PackageFile: seqTools_1.34.0.tgz PackageFileSize: 818.7 KiB