Package: seqPattern Version: 1.32.0 Command: chmod a+r seqPattern -R && F:\biocbuild\bbs-3.17-bioc\R\bin\R.exe CMD build --keep-empty-dirs --no-resave-data seqPattern StartedAt: 2023-10-15 22:19:44 -0400 (Sun, 15 Oct 2023) EndedAt: 2023-10-15 22:21:12 -0400 (Sun, 15 Oct 2023) EllapsedTime: 87.8 seconds RetCode: 0 Status: OK PackageFile: seqPattern_1.32.0.tar.gz PackageFileSize: 5.37 MiB