Package: seqPattern Version: 1.32.0 Command: /Library/Frameworks/R.framework/Resources/bin/R CMD check --install=check:seqPattern.install-out.txt --library=/Library/Frameworks/R.framework/Resources/library --no-vignettes --timings seqPattern_1.32.0.tar.gz StartedAt: 2023-10-16 07:01:05 -0400 (Mon, 16 Oct 2023) EndedAt: 2023-10-16 07:06:23 -0400 (Mon, 16 Oct 2023) EllapsedTime: 318.6 seconds RetCode: 0 Status: OK CheckDir: seqPattern.Rcheck Warnings: 0