Package: seqLogo Version: 1.66.0 Command: /home/biocbuild/bbs-3.17-bioc/R/bin/R CMD build --keep-empty-dirs --no-resave-data seqLogo StartedAt: 2023-10-15 18:30:55 -0400 (Sun, 15 Oct 2023) EndedAt: 2023-10-15 18:31:01 -0400 (Sun, 15 Oct 2023) EllapsedTime: 6.0 seconds RetCode: 0 Status: OK PackageFile: seqLogo_1.66.0.tar.gz PackageFileSize: 898 KiB