Package: seqLogo Version: 1.66.0 Command: /Library/Frameworks/R.framework/Resources/bin/R CMD build --keep-empty-dirs --no-resave-data seqLogo StartedAt: 2023-10-15 21:15:59 -0400 (Sun, 15 Oct 2023) EndedAt: 2023-10-15 21:16:24 -0400 (Sun, 15 Oct 2023) EllapsedTime: 24.6 seconds RetCode: 0 Status: OK PackageFile: seqLogo_1.66.0.tar.gz PackageFileSize: 901.7 KiB