Package: seqArchRplus Version: 1.0.0 Command: /home/biocbuild/bbs-3.17-bioc/R/bin/R CMD INSTALL seqArchRplus StartedAt: 2023-10-15 15:45:50 -0400 (Sun, 15 Oct 2023) EndedAt: 2023-10-15 15:46:13 -0400 (Sun, 15 Oct 2023) EllapsedTime: 23.9 seconds RetCode: 0 Status: OK