Package: seqArchRplus Version: 1.0.0 Command: /Library/Frameworks/R.framework/Resources/bin/R CMD check --install=check:seqArchRplus.install-out.txt --library=/Library/Frameworks/R.framework/Resources/library --no-vignettes --timings seqArchRplus_1.0.0.tar.gz StartedAt: 2023-10-16 06:59:24 -0400 (Mon, 16 Oct 2023) EndedAt: 2023-10-16 07:12:26 -0400 (Mon, 16 Oct 2023) EllapsedTime: 782.0 seconds RetCode: 0 Status: OK CheckDir: seqArchRplus.Rcheck Warnings: 0