Package: seqArchRplus Version: 1.0.0 Command: rm -rf seqArchRplus.buildbin-libdir && mkdir seqArchRplus.buildbin-libdir && /Users/biocbuild/BBS/utils/build-universal.sh seqArchRplus_1.0.0.tar.gz /Library/Frameworks/R.framework/Resources/bin/R seqArchRplus.buildbin-libdir StartedAt: 2023-10-16 10:12:22 -0400 (Mon, 16 Oct 2023) EndedAt: 2023-10-16 10:13:50 -0400 (Mon, 16 Oct 2023) EllapsedTime: 88.6 seconds RetCode: 0 Status: OK PackageFile: seqArchRplus_1.0.0.tgz PackageFileSize: 2.842 MiB