Package: seqArchR Version: 1.4.0 Command: rm -rf seqArchR.buildbin-libdir && mkdir seqArchR.buildbin-libdir && F:\biocbuild\bbs-3.17-bioc\R\bin\R.exe CMD INSTALL --build --library=seqArchR.buildbin-libdir seqArchR_1.4.0.tar.gz StartedAt: 2023-10-16 09:31:19 -0400 (Mon, 16 Oct 2023) EndedAt: 2023-10-16 09:31:48 -0400 (Mon, 16 Oct 2023) EllapsedTime: 29.2 seconds RetCode: 0 Status: OK PackageFile: seqArchR_1.4.0.zip PackageFileSize: 1.479 MiB