Package: seqArchR Version: 1.4.0 Command: /Library/Frameworks/R.framework/Resources/bin/R CMD build --keep-empty-dirs --no-resave-data seqArchR StartedAt: 2023-10-15 21:15:07 -0400 (Sun, 15 Oct 2023) EndedAt: 2023-10-15 21:17:04 -0400 (Sun, 15 Oct 2023) EllapsedTime: 117.0 seconds RetCode: 0 Status: OK PackageFile: seqArchR_1.4.0.tar.gz PackageFileSize: 4.286 MiB