Package: seq.hotSPOT Version: 1.0.0 Command: /Library/Frameworks/R.framework/Resources/bin/R CMD build --keep-empty-dirs --no-resave-data seq.hotSPOT StartedAt: 2023-10-15 21:14:50 -0400 (Sun, 15 Oct 2023) EndedAt: 2023-10-15 21:15:07 -0400 (Sun, 15 Oct 2023) EllapsedTime: 16.8 seconds RetCode: 0 Status: OK PackageFile: seq.hotSPOT_1.0.0.tar.gz PackageFileSize: 1.401 MiB