Package: semisup Version: 1.24.0 Command: F:\biocbuild\bbs-3.17-bioc\R\bin\R.exe CMD check --no-multiarch --install=check:semisup.install-out.txt --library=F:\biocbuild\bbs-3.17-bioc\R\library --no-vignettes --timings semisup_1.24.0.tar.gz StartedAt: 2023-10-16 06:43:11 -0400 (Mon, 16 Oct 2023) EndedAt: 2023-10-16 06:43:48 -0400 (Mon, 16 Oct 2023) EllapsedTime: 36.9 seconds RetCode: 0 Status: OK CheckDir: semisup.Rcheck Warnings: 0