Package: semisup Version: 1.24.0 Command: rm -rf semisup.buildbin-libdir && mkdir semisup.buildbin-libdir && F:\biocbuild\bbs-3.17-bioc\R\bin\R.exe CMD INSTALL --build --library=semisup.buildbin-libdir semisup_1.24.0.tar.gz StartedAt: 2023-10-16 09:31:09 -0400 (Mon, 16 Oct 2023) EndedAt: 2023-10-16 09:31:17 -0400 (Mon, 16 Oct 2023) EllapsedTime: 8.1 seconds RetCode: 0 Status: OK PackageFile: semisup_1.24.0.zip PackageFileSize: 374.7 KiB