Package: semisup Version: 1.24.0 Command: /home/biocbuild/bbs-3.17-bioc/R/bin/R CMD INSTALL semisup StartedAt: 2023-10-15 15:08:45 -0400 (Sun, 15 Oct 2023) EndedAt: 2023-10-15 15:09:00 -0400 (Sun, 15 Oct 2023) EllapsedTime: 14.9 seconds RetCode: 0 Status: OK