git_url: https://git.bioconductor.org/packages/semisup git_branch: RELEASE_3_17 git_last_commit: 4db20da git_last_commit_date: 2023-04-25 10:53:48 -0400 (Tue, 25 Apr 2023) Package: semisup Version: 1.24.0 Maintainer: Armin Rauschenberger MaintainerEmail: armin.rauschenberger at uni.lu