Package: selectKSigs Version: 1.12.0 Command: /home/biocbuild/bbs-3.17-bioc/R/bin/R CMD INSTALL selectKSigs StartedAt: 2023-10-15 15:25:44 -0400 (Sun, 15 Oct 2023) EndedAt: 2023-10-15 15:26:00 -0400 (Sun, 15 Oct 2023) EllapsedTime: 16.3 seconds RetCode: 0 Status: OK