Package: selectKSigs Version: 1.12.0 Command: /home/biocbuild/bbs-3.17-bioc/R/bin/R CMD check --install=check:selectKSigs.install-out.txt --library=/home/biocbuild/bbs-3.17-bioc/R/site-library --timings selectKSigs_1.12.0.tar.gz StartedAt: 2023-10-16 00:59:54 -0400 (Mon, 16 Oct 2023) EndedAt: 2023-10-16 01:02:41 -0400 (Mon, 16 Oct 2023) EllapsedTime: 166.9 seconds RetCode: 0 Status: OK CheckDir: selectKSigs.Rcheck Warnings: 0