Package: selectKSigs Version: 1.12.0 Command: /home/biocbuild/bbs-3.17-bioc/R/bin/R CMD build --keep-empty-dirs --no-resave-data selectKSigs StartedAt: 2023-10-15 18:29:27 -0400 (Sun, 15 Oct 2023) EndedAt: 2023-10-15 18:30:53 -0400 (Sun, 15 Oct 2023) EllapsedTime: 86.4 seconds RetCode: 0 Status: OK PackageFile: selectKSigs_1.12.0.tar.gz PackageFileSize: 379.4 KiB