Package: segmenter Version: 1.6.0 Command: rm -rf segmenter.buildbin-libdir && mkdir segmenter.buildbin-libdir && F:\biocbuild\bbs-3.17-bioc\R\bin\R.exe CMD INSTALL --build --library=segmenter.buildbin-libdir segmenter_1.6.0.tar.gz StartedAt: 2023-10-16 09:30:44 -0400 (Mon, 16 Oct 2023) EndedAt: 2023-10-16 09:31:43 -0400 (Mon, 16 Oct 2023) EllapsedTime: 59.6 seconds RetCode: 0 Status: OK PackageFile: segmenter_1.6.0.zip PackageFileSize: 4.293 MiB