Package: segmenter Version: 1.6.0 Command: /Library/Frameworks/R.framework/Resources/bin/R CMD build --keep-empty-dirs --no-resave-data segmenter StartedAt: 2023-10-15 21:13:12 -0400 (Sun, 15 Oct 2023) EndedAt: 2023-10-15 21:38:09 -0400 (Sun, 15 Oct 2023) EllapsedTime: 1497.5 seconds RetCode: 0 Status: OK PackageFile: segmenter_1.6.0.tar.gz PackageFileSize: 3.949 MiB