Package: segmentSeq Version: 2.34.0 Command: /Library/Frameworks/R.framework/Resources/bin/R CMD build --keep-empty-dirs --no-resave-data segmentSeq StartedAt: 2023-10-15 21:13:16 -0400 (Sun, 15 Oct 2023) EndedAt: 2023-10-15 21:36:17 -0400 (Sun, 15 Oct 2023) EllapsedTime: 1381.7 seconds RetCode: 0 Status: OK PackageFile: segmentSeq_2.34.0.tar.gz PackageFileSize: 2.795 MiB