Package: scviR Version: 1.0.0 Command: /home/biocbuild/bbs-3.17-bioc/R/bin/R CMD check --install=check:scviR.install-out.txt --library=/home/biocbuild/bbs-3.17-bioc/R/site-library --timings scviR_1.0.0.tar.gz StartedAt: 2023-10-16 00:59:14 -0400 (Mon, 16 Oct 2023) EndedAt: 2023-10-16 01:05:55 -0400 (Mon, 16 Oct 2023) EllapsedTime: 401.4 seconds RetCode: 0 Status: OK CheckDir: scviR.Rcheck Warnings: 0