Package: scviR Version: 1.0.0 Command: /home/biocbuild/bbs-3.17-bioc/R/bin/R CMD build --keep-empty-dirs --no-resave-data scviR StartedAt: 2023-10-15 18:28:53 -0400 (Sun, 15 Oct 2023) EndedAt: 2023-10-15 18:31:12 -0400 (Sun, 15 Oct 2023) EllapsedTime: 138.5 seconds RetCode: 0 Status: OK PackageFile: scviR_1.0.0.tar.gz PackageFileSize: 3.365 MiB