Package: scviR Version: 1.0.0 Command: /Library/Frameworks/R.framework/Resources/bin/R CMD INSTALL scviR StartedAt: 2023-10-15 16:19:00 -0400 (Sun, 15 Oct 2023) EndedAt: 2023-10-15 16:20:35 -0400 (Sun, 15 Oct 2023) EllapsedTime: 94.8 seconds RetCode: 0 Status: OK