Package: scviR Version: 1.0.0 Command: /Library/Frameworks/R.framework/Resources/bin/R CMD build --keep-empty-dirs --no-resave-data scviR StartedAt: 2023-10-15 21:12:02 -0400 (Sun, 15 Oct 2023) EndedAt: 2023-10-15 21:16:53 -0400 (Sun, 15 Oct 2023) EllapsedTime: 291.1 seconds RetCode: 0 Status: OK PackageFile: scviR_1.0.0.tar.gz PackageFileSize: 3.401 MiB