Package: scviR Version: 1.0.0 Command: rm -rf scviR.buildbin-libdir && mkdir scviR.buildbin-libdir && /Users/biocbuild/BBS/utils/build-universal.sh scviR_1.0.0.tar.gz /Library/Frameworks/R.framework/Resources/bin/R scviR.buildbin-libdir StartedAt: 2023-10-16 10:11:39 -0400 (Mon, 16 Oct 2023) EndedAt: 2023-10-16 10:13:23 -0400 (Mon, 16 Oct 2023) EllapsedTime: 103.8 seconds RetCode: 0 Status: OK PackageFile: scviR_1.0.0.tgz PackageFileSize: 3.452 MiB