Package: scuttle Version: 1.10.3 Command: F:\biocbuild\bbs-3.17-bioc\R\bin\R.exe CMD INSTALL scuttle StartedAt: 2023-10-15 16:06:01 -0400 (Sun, 15 Oct 2023) EndedAt: 2023-10-15 16:07:44 -0400 (Sun, 15 Oct 2023) EllapsedTime: 103.7 seconds RetCode: 0 Status: OK