Package: scuttle Version: 1.10.3 Command: chmod a+r scuttle -R && F:\biocbuild\bbs-3.17-bioc\R\bin\R.exe CMD build --keep-empty-dirs --no-resave-data scuttle StartedAt: 2023-10-15 22:15:49 -0400 (Sun, 15 Oct 2023) EndedAt: 2023-10-15 22:19:38 -0400 (Sun, 15 Oct 2023) EllapsedTime: 228.5 seconds RetCode: 0 Status: OK PackageFile: scuttle_1.10.3.tar.gz PackageFileSize: 1006 KiB