Package: scuttle Version: 1.10.3 Command: /home/biocbuild/bbs-3.17-bioc/R/bin/R CMD build --keep-empty-dirs --no-resave-data scuttle StartedAt: 2023-10-15 18:28:51 -0400 (Sun, 15 Oct 2023) EndedAt: 2023-10-15 18:32:18 -0400 (Sun, 15 Oct 2023) EllapsedTime: 207.4 seconds RetCode: 0 Status: OK PackageFile: scuttle_1.10.3.tar.gz PackageFileSize: 1005 KiB