Package: scuttle Version: 1.10.3 Command: /Library/Frameworks/R.framework/Resources/bin/R CMD INSTALL scuttle StartedAt: 2023-10-15 15:22:30 -0400 (Sun, 15 Oct 2023) EndedAt: 2023-10-15 15:26:53 -0400 (Sun, 15 Oct 2023) EllapsedTime: 263.3 seconds RetCode: 0 Status: OK