Package: scuttle Version: 1.10.3 Command: /Library/Frameworks/R.framework/Resources/bin/R CMD check --install=check:scuttle.install-out.txt --library=/Library/Frameworks/R.framework/Resources/library --no-vignettes --timings scuttle_1.10.3.tar.gz StartedAt: 2023-10-16 06:54:48 -0400 (Mon, 16 Oct 2023) EndedAt: 2023-10-16 07:09:18 -0400 (Mon, 16 Oct 2023) EllapsedTime: 870.6 seconds RetCode: 0 Status: OK CheckDir: scuttle.Rcheck Warnings: 0