Package: scruff Version: 1.18.0 Command: /home/biocbuild/bbs-3.17-bioc/R/bin/R CMD INSTALL scruff StartedAt: 2023-10-15 15:30:59 -0400 (Sun, 15 Oct 2023) EndedAt: 2023-10-15 15:31:56 -0400 (Sun, 15 Oct 2023) EllapsedTime: 56.6 seconds RetCode: 0 Status: OK