Package: scoreInvHap Version: 1.22.0 Command: /home/biocbuild/bbs-3.17-bioc/R/bin/R CMD INSTALL scoreInvHap StartedAt: 2023-10-15 15:38:51 -0400 (Sun, 15 Oct 2023) EndedAt: 2023-10-15 15:39:34 -0400 (Sun, 15 Oct 2023) EllapsedTime: 43.2 seconds RetCode: 0 Status: OK