Package: scoreInvHap Version: 1.22.0 Command: /Library/Frameworks/R.framework/Resources/bin/R CMD INSTALL scoreInvHap StartedAt: 2023-10-15 16:10:01 -0400 (Sun, 15 Oct 2023) EndedAt: 2023-10-15 16:12:18 -0400 (Sun, 15 Oct 2023) EllapsedTime: 136.9 seconds RetCode: 0 Status: OK