Package: scoreInvHap Version: 1.22.0 Command: /Library/Frameworks/R.framework/Resources/bin/R CMD build --keep-empty-dirs --no-resave-data scoreInvHap StartedAt: 2023-10-15 21:06:08 -0400 (Sun, 15 Oct 2023) EndedAt: 2023-10-15 21:09:33 -0400 (Sun, 15 Oct 2023) EllapsedTime: 205.1 seconds RetCode: 0 Status: OK PackageFile: scoreInvHap_1.22.0.tar.gz PackageFileSize: 1.035 MiB