Package: scoreInvHap Version: 1.22.0 Command: rm -rf scoreInvHap.buildbin-libdir && mkdir scoreInvHap.buildbin-libdir && /Users/biocbuild/BBS/utils/build-universal.sh scoreInvHap_1.22.0.tar.gz /Library/Frameworks/R.framework/Resources/bin/R scoreInvHap.buildbin-libdir StartedAt: 2023-10-16 10:10:29 -0400 (Mon, 16 Oct 2023) EndedAt: 2023-10-16 10:12:56 -0400 (Mon, 16 Oct 2023) EllapsedTime: 147.2 seconds RetCode: 0 Status: OK PackageFile: scoreInvHap_1.22.0.tgz PackageFileSize: 1.538 MiB