Package: scone Version: 1.24.0 Command: F:\biocbuild\bbs-3.17-bioc\R\bin\R.exe CMD check --no-multiarch --install=check:scone.install-out.txt --library=F:\biocbuild\bbs-3.17-bioc\R\library --no-vignettes --timings scone_1.24.0.tar.gz StartedAt: 2023-10-16 06:33:15 -0400 (Mon, 16 Oct 2023) EndedAt: 2023-10-16 06:42:45 -0400 (Mon, 16 Oct 2023) EllapsedTime: 569.4 seconds RetCode: 0 Status: OK CheckDir: scone.Rcheck Warnings: 0