Package: scone Version: 1.24.0 Command: chmod a+r scone -R && F:\biocbuild\bbs-3.17-bioc\R\bin\R.exe CMD build --keep-empty-dirs --no-resave-data scone StartedAt: 2023-10-15 22:09:50 -0400 (Sun, 15 Oct 2023) EndedAt: 2023-10-15 22:12:43 -0400 (Sun, 15 Oct 2023) EllapsedTime: 172.6 seconds RetCode: 0 Status: OK PackageFile: scone_1.24.0.tar.gz PackageFileSize: 846.4 KiB