Package: scone Version: 1.24.0 Command: rm -rf scone.buildbin-libdir && mkdir scone.buildbin-libdir && F:\biocbuild\bbs-3.17-bioc\R\bin\R.exe CMD INSTALL --build --library=scone.buildbin-libdir scone_1.24.0.tar.gz StartedAt: 2023-10-16 09:29:38 -0400 (Mon, 16 Oct 2023) EndedAt: 2023-10-16 09:30:39 -0400 (Mon, 16 Oct 2023) EllapsedTime: 61.1 seconds RetCode: 0 Status: OK PackageFile: scone_1.24.0.zip PackageFileSize: 1.009 MiB