Package: scone Version: 1.24.0 Command: /home/biocbuild/bbs-3.17-bioc/R/bin/R CMD build --keep-empty-dirs --no-resave-data scone StartedAt: 2023-10-15 18:26:04 -0400 (Sun, 15 Oct 2023) EndedAt: 2023-10-15 18:28:32 -0400 (Sun, 15 Oct 2023) EllapsedTime: 147.3 seconds RetCode: 0 Status: OK PackageFile: scone_1.24.0.tar.gz PackageFileSize: 1.703 MiB