Package: scmap Version: 1.22.3 Command: F:\biocbuild\bbs-3.17-bioc\R\bin\R.exe CMD INSTALL scmap StartedAt: 2023-10-15 16:00:47 -0400 (Sun, 15 Oct 2023) EndedAt: 2023-10-15 16:01:54 -0400 (Sun, 15 Oct 2023) EllapsedTime: 67.4 seconds RetCode: 0 Status: OK