Package: scmap Version: 1.22.3 Command: rm -rf scmap.buildbin-libdir && mkdir scmap.buildbin-libdir && F:\biocbuild\bbs-3.17-bioc\R\bin\R.exe CMD INSTALL --build --library=scmap.buildbin-libdir scmap_1.22.3.tar.gz StartedAt: 2023-10-16 09:29:28 -0400 (Mon, 16 Oct 2023) EndedAt: 2023-10-16 09:30:26 -0400 (Mon, 16 Oct 2023) EllapsedTime: 57.2 seconds RetCode: 0 Status: OK PackageFile: scmap_1.22.3.zip PackageFileSize: 3.426 MiB