Package: scmap Version: 1.22.3 Command: /Library/Frameworks/R.framework/Resources/bin/R CMD INSTALL scmap StartedAt: 2023-10-15 15:16:38 -0400 (Sun, 15 Oct 2023) EndedAt: 2023-10-15 15:19:03 -0400 (Sun, 15 Oct 2023) EllapsedTime: 144.6 seconds RetCode: 0 Status: OK