Package: scmap Version: 1.22.3 Command: /Library/Frameworks/R.framework/Resources/bin/R CMD check --install=check:scmap.install-out.txt --library=/Library/Frameworks/R.framework/Resources/library --no-vignettes --timings scmap_1.22.3.tar.gz StartedAt: 2023-10-16 06:43:42 -0400 (Mon, 16 Oct 2023) EndedAt: 2023-10-16 06:50:41 -0400 (Mon, 16 Oct 2023) EllapsedTime: 419.2 seconds RetCode: 0 Status: OK CheckDir: scmap.Rcheck Warnings: 0