Package: scmap Version: 1.22.3 Command: /Library/Frameworks/R.framework/Resources/bin/R CMD build --keep-empty-dirs --no-resave-data scmap StartedAt: 2023-10-15 21:01:58 -0400 (Sun, 15 Oct 2023) EndedAt: 2023-10-15 21:04:58 -0400 (Sun, 15 Oct 2023) EllapsedTime: 180.0 seconds RetCode: 0 Status: OK PackageFile: scmap_1.22.3.tar.gz PackageFileSize: 2.219 MiB