Package: scmap Version: 1.22.3 Command: rm -rf scmap.buildbin-libdir && mkdir scmap.buildbin-libdir && /Users/biocbuild/BBS/utils/build-universal.sh scmap_1.22.3.tar.gz /Library/Frameworks/R.framework/Resources/bin/R scmap.buildbin-libdir StartedAt: 2023-10-16 10:10:11 -0400 (Mon, 16 Oct 2023) EndedAt: 2023-10-16 10:12:36 -0400 (Mon, 16 Oct 2023) EllapsedTime: 145.4 seconds RetCode: 0 Status: OK PackageFile: scmap_1.22.3.tgz PackageFileSize: 3.371 MiB