Package: scifer Version: 1.2.0 Command: /Library/Frameworks/R.framework/Resources/bin/R CMD INSTALL scifer StartedAt: 2023-10-15 15:50:05 -0400 (Sun, 15 Oct 2023) EndedAt: 2023-10-15 15:50:58 -0400 (Sun, 15 Oct 2023) EllapsedTime: 52.4 seconds RetCode: 0 Status: OK