Package: scds Version: 1.16.0 Command: chmod a+r scds -R && F:\biocbuild\bbs-3.17-bioc\R\bin\R.exe CMD build --keep-empty-dirs --no-resave-data scds StartedAt: 2023-10-15 22:05:40 -0400 (Sun, 15 Oct 2023) EndedAt: 2023-10-15 22:06:43 -0400 (Sun, 15 Oct 2023) EllapsedTime: 63.2 seconds RetCode: 0 Status: OK PackageFile: scds_1.16.0.tar.gz PackageFileSize: 1.067 MiB