Package: scds Version: 1.16.0 Command: rm -rf scds.buildbin-libdir && mkdir scds.buildbin-libdir && F:\biocbuild\bbs-3.17-bioc\R\bin\R.exe CMD INSTALL --build --library=scds.buildbin-libdir scds_1.16.0.tar.gz StartedAt: 2023-10-16 09:29:13 -0400 (Mon, 16 Oct 2023) EndedAt: 2023-10-16 09:29:41 -0400 (Mon, 16 Oct 2023) EllapsedTime: 27.4 seconds RetCode: 0 Status: OK PackageFile: scds_1.16.0.zip PackageFileSize: 1.1 MiB