Package: scde Version: 2.28.2 Command: rm -rf scde.buildbin-libdir && mkdir scde.buildbin-libdir && F:\biocbuild\bbs-3.17-bioc\R\bin\R.exe CMD INSTALL --build --library=scde.buildbin-libdir scde_2.28.2.tar.gz StartedAt: 2023-10-16 09:29:12 -0400 (Mon, 16 Oct 2023) EndedAt: 2023-10-16 09:30:31 -0400 (Mon, 16 Oct 2023) EllapsedTime: 79.0 seconds RetCode: 0 Status: OK PackageFile: scde_2.28.2.zip PackageFileSize: 2.562 MiB